BEGIN:VCALENDAR
VERSION:2.0
PRODID:-//ACI Slovenija - ECPv6.15.0.1//NONSGML v1.0//EN
CALSCALE:GREGORIAN
METHOD:PUBLISH
X-ORIGINAL-URL:https://aci-slovenia.org
X-WR-CALDESC:Events for ACI Slovenija
REFRESH-INTERVAL;VALUE=DURATION:PT1H
X-Robots-Tag:noindex
X-PUBLISHED-TTL:PT1H
BEGIN:VTIMEZONE
TZID:Europe/Ljubljana
BEGIN:DAYLIGHT
TZOFFSETFROM:+0100
TZOFFSETTO:+0200
TZNAME:CEST
DTSTART:20180325T010000
END:DAYLIGHT
BEGIN:STANDARD
TZOFFSETFROM:+0200
TZOFFSETTO:+0100
TZNAME:CET
DTSTART:20181028T010000
END:STANDARD
END:VTIMEZONE
BEGIN:VEVENT
DTSTART;TZID=Europe/Ljubljana:20180615T160000
DTEND;TZID=Europe/Ljubljana:20180617T110000
DTSTAMP:20260421T133318
CREATED:20180423T113310Z
LAST-MODIFIED:20180522T122814Z
UID:4480-1529078400-1529233200@aci-slovenia.org
SUMMARY:26. REDNA LETNA SKUPŠČINA ACI SLOVENIJA
DESCRIPTION:Program 26. redne letne skupščine ACI Slovenija\nPETEK\, 15. junij  2018\n\n\n\n16:00 – 19:00\nRegistracija v avli hotela Grand Hotel Portorož****\n\n\n18:30 – 19:00\nDobrodošlica in mreženje\n\n\n19:00 – 19:40\nRedna letna skupščina članov ACI Slovenija (priporočena garderoba: poslovna).\n\n\n \nUvodni nagovor Matjaž Stritih\, predsednik ACI Slovenija\n\n\n \nPredstavitev letnih poročil odborov ACI Slovenija\n\n\n 19:40 – 20:10\nSlavnostni nagovor (TBA)\n\n\n20:10 – 20:30\nPredstavitev glavnega pokrovitelja – Thomson Reuters\n\n\n 20:45 – 23:00 \nVečerja na hotelski plaži Meduza\n\n\n\nSOBOTA\, 16. junij  2018\nDelavnice in predstavitve v angleškem jeziku (priporočena garderoba: poslovna) \n\n\n\n 09:00 – 09:15\nPredstavitev predavateljev Alenka Gedrih\, podpredsednica ACI Slovenija\n\n\n 9:15 – 10:00\nGlobal Markets Update dr. Johannes Mayr\, Senior Economist\, Bayern LB\n\n\n 10:00 – 10:30\nMIFID II & FX Global Code – Treats or Opportunities for the FX Market? Rui Correia\, Senior Consultant & Deputy Director of Education ACI World\n\n\n 10:30 – 11:00\nInterest Rate Benchmark Reforms\nCilka Ferjančič\, svetovalec analitik\, Banka Slovenije\n\n\n 11:00 – 11:20\nOdmor za kavo\n\n\n 11:20 – 12:00\nDuration Positioning Model\nŽiva Petkovšek\, upravitelj premoženja\, Banka Slovenije\n Jernej Gregorič\, svetovalec upravitelj premoženja\, Banka Slovenije\n\n\n12:00 – 13:00\nArtificial Intelligence and Machine Learning in Financial Service Industries Beijia Ma\, Strategist\, Merrill Lynch International\n\n\n13:00 – 13:10\nZaključek Matjaž Stritih\, predsednik društva ACI Slovenija\n\n\n13:10 – 14:30\nKosilo v hotelski restavraciji\n\n\n 16:15 \nZbor pred hotelom\n\n\n 16:30\nAvtobusni prevoz v Šalaro\n\n\n 17:00 – 22:30\nOgled Oljarne Lisjak z degustacijo olivnega olja in vin ter večerja\n\n\n 22:30\nPovratek v hotel z avtobusom\n\n\n\nNEDELJA\, 17. junij 2018\n\n\n\n07:00 – 10:00  \nZajtrk\n\n\n11:00  \nOdjava iz hotela\n\n\n\nSponzorji: \n  
URL:https://aci-slovenia.org/event/test/
LOCATION:Grand Hotel Portorož **** superior\, Obala 33\, Portorož\, 6320\, Slovenija
CATEGORIES:Letna skupščina
ATTACH;FMTTYPE=image/jpeg:https://aci-slovenia.org/wp-content/uploads/2018/02/portoroz.jpg
END:VEVENT
BEGIN:VEVENT
DTSTART;TZID=Europe/Ljubljana:20180615T160000
DTEND;TZID=Europe/Ljubljana:20180617T110000
DTSTAMP:20260421T133318
CREATED:20180423T130207Z
LAST-MODIFIED:20180522T182541Z
UID:4488-1529078400-1529233200@aci-slovenia.org
SUMMARY:26th ACI SLOVENIA ANNUAL GENERAL ASSEMBLY
DESCRIPTION:Agenda of the 26th Annual Assembly of the ACI Slovenia\nFriday\, 15th June  2018\n\n\n\n16:00 – 19:00\nRegistration in the lobby of Grand Hotel Portorož****\n\n\n18:30 – 19:00\nWelcome snack and Networking\n\n\n19:00 – 19:40 \nACI Slovenia Annual Assembly (Dress code: Business)\n\n\n \nWelcome Speech Matjaž Stritih\, President ACI Slovenija\n\n\n \nACI Annual Reports\n\n\n 19:40 -20:10\nKeynote address  (TBA)\n\n\n 20:10 -20:30\nPresentation of our main sponsor – Thomson Reuters\n\n\n 20:45 – 23:00 \nDinner on the hotel beach Meduza\n\n\n\nSaturday\, 16th June  2018\n\n\n\n 09:00 – 09:15\nOpening Remarks Alenka Gedrih\, Vice President ACI Slovenija\n\n\n 09:15 – 10:00\nGlobal Markets Update dr. Johannes Mayr\, Senior Economist\, Bayern LB\n\n\n 10:00 – 10:30\nMIFID II & FX Global Code – Treats or Opportunities for the FX Market? Rui Correia\, Senior Consultant & Deputy Director of Education ACI World\n\n\n 10:30 – 11:00\nInterest Rate Benchmark Reforms\nCilka Ferjančič\, Analyst – Adviser\, Banka Slovenije\n\n\n 11:00 – 11:20\nCoffee Break\n\n\n 11:20 – 12:00\nDuration Positioning Model\nŽiva Petkovšek\, Portfolio Manager\, Banka Slovenije\nJernej Gregorič\, Portfolio Manager – Adviser\, Banka Slovenije\n\n\n 12:00 – 13:00\nKEYNOTE SPEAKER: Artificial Intelligence and Machine Learning in Financial Service Industries Beijia Ma\, Strategist\, Merrill Lynch International\n\n\n13:00 – 13:10\nConcluding Remarks Matjaž Stritih\, President ACI Slovenija\n\n\n13:10 – 14:30\nLunch Grand Hotel Portorož – Olive Garden Restaurant Adria\n\n\n 16:15\nAssemble in the hotel lobby\n\n\n 16:30\nBus transfer to LISJAK olive oil mill\n\n\n 17:00 – 22:30\nGuided tour of olive oil mill LISJAK followed by wine tasting and dinner\n\n\n 22:30\nBus transfer back to the hotel\n\n\n\nSunday\, 17h June  2018\n\n\n\n07:00 – 10:00  \nBreakfast\n\n\n11:00  \nCheck Out\n\n\n\nSponsors: \n   \n 
URL:https://aci-slovenia.org/event/26th-aci-slovenia-annual-general-assembly/
LOCATION:Grand Hotel Portorož **** superior\, Obala 33\, Portorož\, 6320\, Slovenija
CATEGORIES:Letna skupščina
ATTACH;FMTTYPE=image/jpeg:https://aci-slovenia.org/wp-content/uploads/2018/02/portoroz.jpg
END:VEVENT
END:VCALENDAR