BEGIN:VCALENDAR
VERSION:2.0
PRODID:-//ACI Slovenija - ECPv6.15.0.1//NONSGML v1.0//EN
CALSCALE:GREGORIAN
METHOD:PUBLISH
X-ORIGINAL-URL:https://aci-slovenia.org
X-WR-CALDESC:Events for ACI Slovenija
REFRESH-INTERVAL;VALUE=DURATION:PT1H
X-Robots-Tag:noindex
X-PUBLISHED-TTL:PT1H
BEGIN:VTIMEZONE
TZID:Europe/Ljubljana
BEGIN:DAYLIGHT
TZOFFSETFROM:+0100
TZOFFSETTO:+0200
TZNAME:CEST
DTSTART:20190331T010000
END:DAYLIGHT
BEGIN:STANDARD
TZOFFSETFROM:+0200
TZOFFSETTO:+0100
TZNAME:CET
DTSTART:20191027T010000
END:STANDARD
END:VTIMEZONE
BEGIN:VEVENT
DTSTART;TZID=Europe/Ljubljana:20190614T160000
DTEND;TZID=Europe/Ljubljana:20190616T110000
DTSTAMP:20260421T174951
CREATED:20190418T184402Z
LAST-MODIFIED:20190520T092618Z
UID:5246-1560528000-1560682800@aci-slovenia.org
SUMMARY:27th ACI Slovenia Annual General Assembly
DESCRIPTION:Agenda of the 27th Annual Assembly of the ACI Slovenia\nFriday\, 14 June – Sunday 16 June 2019\nACI Slovenia is pleased to invite you to its 27th ACI Slovenia Annual Assembly from\n14th to 16th June 2019 at the Bohinj ECO Hotel **** in Bohinjska Bistrica (link). \n  \n\n\n\n16:00 – 19:00\nRegistration\n\n\n18:30 – 19:00\nWelcome snack and Networking\n\n\n19:00  – 19:30\nAnnual Assembly of the ACI Slovenia (Dress code: Business)\n\n\n \nWelcome Speech Matjaž Stritih\, President ACI Slovenija\n\n\n \nACI Annual Reports\n\n\n19:30 – 20:00\nKeynote address Primož Dolenc\, Deputy Governor\, Bank of Slovenia\n\n\n20:00 – 20:15\nPresentation by event sponsor Deposit Solutions \n\n\n20:30 – 22:30\nBuffet Dinner\n\n\n22:30\nBowling Party\n\n\n\nSaturday\, 16th June  2018\n\n\n\n 09:00 – 9:15\nOpening Remarks Alenka Gedrih\, Vice President ACI Slovenija\n\n\n 9:15 – 9:35\nSlovenian Bond Market Update\nMarjan Divjak\, Ministry of Finance\n\n\n 9:35 – 9:50\nPresentation by event sponsor Refinitiv\n\n\n 9:50 – 10:35\nEuropean Fixed Income Outlook and Brexit\, Marchel Alexandrovich\, Jefferies International\, Ltd\n\n\n\n 10:35 – 11:20\nYield Curve Modelling\nRok Brence\, CFA\, European Central Bank\n\n\n 11:20 – 11:40\nCoffee Break\n\n\n\n 11:40 – 12:25\nUpdate on Interest Rate Benchmark Reforms\nCilka Ferjančič\, Banka Slovenije\n\n\n\n 12:25 – 12:40\nPresentation by event sponsor INTL FCStone\n\n\n 12:40 – 13:20\nAlternative Risk Premia Myria Kyriacou\, Cross-asset Quantitative Strategist\, Merrill Lynch International\n\n\n13:20 – 13:25\nConcluding Remarks Matjaž Stritih\, President ACI Slovenija\n\n\n13:30 – 14:30\nLunch\n\n\n15:00\nSocial Event\nOptional: \n\nRafting on river Sava Bohinjka or\nGuided tour of the Bohinj cheese farm followed by a boat trip on Bohinj Lake\n\n\n\n\n 19:15 – 23:00\nBBQ Party –Pod Skalco\, Ribčev Laz\n\n\n 23:00\nBus transfer back to the hotel\n\n\n\n\n\n\n\n\n\n\n\nSunday\, 16 June 2019\n\n\n\n09:00  \nBreakfast\n\n\n11:00  \nCheck Out\n\n\n\n 
URL:https://aci-slovenia.org/event/27th-aci-slovenia-annual-general-assembly/
LOCATION:Bohinj ECO Hotel 4*\, Bohinjska Bistrica\, Triglavska cesta 17\, Bohinjska Bistrica\, 4264
CATEGORIES:Letna skupščina
ATTACH;FMTTYPE=image/jpeg:https://aci-slovenia.org/wp-content/uploads/2019/03/ACI-Bohinj-2019-1.jpg
END:VEVENT
END:VCALENDAR