BEGIN:VCALENDAR
VERSION:2.0
PRODID:-//ACI Slovenija - ECPv6.15.0.1//NONSGML v1.0//EN
CALSCALE:GREGORIAN
METHOD:PUBLISH
X-WR-CALNAME:ACI Slovenija
X-ORIGINAL-URL:https://aci-slovenia.org
X-WR-CALDESC:Events for ACI Slovenija
REFRESH-INTERVAL;VALUE=DURATION:PT1H
X-Robots-Tag:noindex
X-PUBLISHED-TTL:PT1H
BEGIN:VTIMEZONE
TZID:Europe/Ljubljana
BEGIN:DAYLIGHT
TZOFFSETFROM:+0100
TZOFFSETTO:+0200
TZNAME:CEST
DTSTART:20200329T010000
END:DAYLIGHT
BEGIN:STANDARD
TZOFFSETFROM:+0200
TZOFFSETTO:+0100
TZNAME:CET
DTSTART:20201025T010000
END:STANDARD
END:VTIMEZONE
BEGIN:VEVENT
DTSTART;TZID=Europe/Ljubljana:20200930T160000
DTEND;TZID=Europe/Ljubljana:20200930T200000
DTSTAMP:20260421T214438
CREATED:20200304T095523Z
LAST-MODIFIED:20201002T122153Z
UID:5649-1601481600-1601496000@aci-slovenia.org
SUMMARY:28th ACI Slovenia Annual Genaral Assembly
DESCRIPTION:28. redna letna skupščina ACI Slovenija\n8. oktober 2020 od 14. ure dalje\nACI Slovenija vas vljudno vabi na 28. redno letno skupščino\, ki bo tokrat zaradi izrednih razmer ON-line\, dne 8. oktober 2020 s pričetkom ob 14. uri . \n  \n\n\n\n14.00\nPredavanje: Izgledi evropskega trga obveznic\, Richard McGuire\, Rabobank\n\n\n14:45\nKripto imetja in vloga centralnih bank\, Domen Božeglav\, Banka Slovenije\n\n\n15:30\nSlavnostni nagovor\n\n\n15:45\nSkupščina in potrditev novega predsedstva\n\n\n16:30\nZaključek
URL:https://aci-slovenia.org/event/28th-aci-slovenia-annual-genaral-assembly/
CATEGORIES:Letna skupščina
ATTACH;FMTTYPE=image/jpeg:https://aci-slovenia.org/wp-content/uploads/2020/09/ACI-2020.jpg
END:VEVENT
END:VCALENDAR