BEGIN:VCALENDAR
VERSION:2.0
PRODID:-//ACI Slovenija - ECPv6.15.0.1//NONSGML v1.0//EN
CALSCALE:GREGORIAN
METHOD:PUBLISH
X-ORIGINAL-URL:https://aci-slovenia.org
X-WR-CALDESC:Events for ACI Slovenija
REFRESH-INTERVAL;VALUE=DURATION:PT1H
X-Robots-Tag:noindex
X-PUBLISHED-TTL:PT1H
BEGIN:VTIMEZONE
TZID:Europe/Ljubljana
BEGIN:DAYLIGHT
TZOFFSETFROM:+0100
TZOFFSETTO:+0200
TZNAME:CEST
DTSTART:20180325T010000
END:DAYLIGHT
BEGIN:STANDARD
TZOFFSETFROM:+0200
TZOFFSETTO:+0100
TZNAME:CET
DTSTART:20181028T010000
END:STANDARD
END:VTIMEZONE
BEGIN:VEVENT
DTSTART;TZID=Europe/Ljubljana:20181123T160000
DTEND;TZID=Europe/Ljubljana:20181123T233000
DTSTAMP:20260421T205225
CREATED:20181024T134317Z
LAST-MODIFIED:20181029T092142Z
UID:5082-1542988800-1543015800@aci-slovenia.org
SUMMARY:ACI Martinovanje 2018
DESCRIPTION:  \nŠtevilo prostih mest omejeno na 45 oseb\, zato se prijavite še danes! \n 
URL:https://aci-slovenia.org/event/aci-martinovanje-2018/
LOCATION:Vipava\, Erzelj 22\, Vipava\, 5271\, Slovenija
CATEGORIES:Družabni dogodki
ATTACH;FMTTYPE=image/jpeg:https://aci-slovenia.org/wp-content/uploads/2018/10/Martinovanje-2018.jpg
END:VEVENT
END:VCALENDAR