BEGIN:VCALENDAR
VERSION:2.0
PRODID:-//ACI Slovenija - ECPv6.15.0.1//NONSGML v1.0//EN
CALSCALE:GREGORIAN
METHOD:PUBLISH
X-ORIGINAL-URL:https://aci-slovenia.org
X-WR-CALDESC:Events for ACI Slovenija
REFRESH-INTERVAL;VALUE=DURATION:PT1H
X-Robots-Tag:noindex
X-PUBLISHED-TTL:PT1H
BEGIN:VTIMEZONE
TZID:Europe/Ljubljana
BEGIN:DAYLIGHT
TZOFFSETFROM:+0100
TZOFFSETTO:+0200
TZNAME:CEST
DTSTART:20250330T010000
END:DAYLIGHT
BEGIN:STANDARD
TZOFFSETFROM:+0200
TZOFFSETTO:+0100
TZNAME:CET
DTSTART:20251026T010000
END:STANDARD
END:VTIMEZONE
BEGIN:VEVENT
DTSTART;TZID=Europe/Ljubljana:20251209T160000
DTEND;TZID=Europe/Ljubljana:20251209T200000
DTSTAMP:20260421T234147
CREATED:20251120T135952Z
LAST-MODIFIED:20251120T135952Z
UID:8038-1765296000-1765310400@aci-slovenia.org
SUMMARY:Dobrodelna akcija Božiček za en dan
DESCRIPTION:
URL:https://aci-slovenia.org/event/dobrodelna-akcija-bozicek-za-en-dan/
LOCATION:BTC Ljubljana
END:VEVENT
BEGIN:VEVENT
DTSTART;TZID=Europe/Ljubljana:20251211T083000
DTEND;TZID=Europe/Ljubljana:20251211T150000
DTSTAMP:20260421T234147
CREATED:20250707T065128Z
LAST-MODIFIED:20251202T074351Z
UID:7939-1765441800-1765465200@aci-slovenia.org
SUMMARY:Konferenca Globalni obeti 2026 / Global Outlook 2026 Conference - prijave zaprte
DESCRIPTION:
URL:https://aci-slovenia.org/event/konferenca-globalni-obeti-2026-global-outlook-2026-conference/
LOCATION:Best Western Premier Hotel Slon – Ljubljana\, Slovenska cesta 34\, \, Ljubljana\, 1000\, Slovenija
END:VEVENT
END:VCALENDAR